BEGIN:VCALENDAR
VERSION:2.0
PRODID:-//empowercdc.org//NONSGML kigkonsult.se iCalcreator 2.30.10//
CALSCALE:GREGORIAN
METHOD:PUBLISH
UID:c47f2d06-80fe-45a1-98d2-88f5998f7a27
X-WR-CALDESC:SOCIAL-Cedar- CP\nFor the Love of\nBINGO!!!\n@ 1:00PM
X-WR-RELCALID:e95a6f01aae3b371125ffa465d27a670
X-WR-TIMEZONE:America/Chicago
BEGIN:VTIMEZONE
TZID:America/Chicago
BEGIN:STANDARD
TZNAME:CST
DTSTART:20241103T020000
TZOFFSETFROM:-0500
TZOFFSETTO:-0600
RDATE:20251102T020000
RDATE:20261101T020000
END:STANDARD
BEGIN:DAYLIGHT
TZNAME:CDT
DTSTART:20250309T020000
TZOFFSETFROM:-0600
TZOFFSETTO:-0500
RDATE:20260308T020000
END:DAYLIGHT
END:VTIMEZONE
BEGIN:VEVENT
UID:784ab441-c008-47a1-9ebb-68b30368dee1
DTSTAMP:20260423T143051Z
DESCRIPTION:SOCIAL-Cedar- CP\nFor the Love of\nBINGO!!!\n@ 1:00PM
DTSTART;TZID=America/Chicago:20250905T130000
DTEND;TZID=America/Chicago:20250905T140000
LOCATION:1830 Hollyoak Dr\, Houston\, TX 77084 US
SUMMARY:Hollyoak: Exercise
END:VEVENT
END:VCALENDAR
