BEGIN:VCALENDAR
VERSION:2.0
PRODID:-//empowercdc.org//NONSGML kigkonsult.se iCalcreator 2.30.10//
CALSCALE:GREGORIAN
METHOD:PUBLISH
UID:dbb922a4-57c0-4c62-b10a-a4f51c0b451a
X-WR-CALDESC:EXERCISE\nCHAIR EXERCISE\n@10:30AM\n\nSOCIAL\nBIRTHDAY PARTY\n
 @11AM
X-WR-RELCALID:5d51273618d6dc0cba7d12008a928592
X-WR-TIMEZONE:America/Chicago
BEGIN:VTIMEZONE
TZID:America/Chicago
BEGIN:STANDARD
TZNAME:CST
DTSTART:20241103T020000
TZOFFSETFROM:-0500
TZOFFSETTO:-0600
RDATE:20251102T020000
RDATE:20261101T020000
END:STANDARD
BEGIN:DAYLIGHT
TZNAME:CDT
DTSTART:20250309T020000
TZOFFSETFROM:-0600
TZOFFSETTO:-0500
RDATE:20260308T020000
END:DAYLIGHT
END:VTIMEZONE
BEGIN:VEVENT
UID:5655a413-09d4-478d-979e-75a056a4dec8
DTSTAMP:20260423T143725Z
DESCRIPTION:EXERCISE\nCHAIR EXERCISE\n@10:30AM\n\nSOCIAL\nBIRTHDAY PARTY\n@
 11AM
DTSTART;TZID=America/Chicago:20250904T103000
DTEND;TZID=America/Chicago:20250904T120000
LOCATION:15707 Kuykendahl Ct\, Conroe\, AL 77384 US
SUMMARY:Kuykendalh Court: Exercise\, Social
END:VEVENT
END:VCALENDAR
