BEGIN:VCALENDAR
VERSION:2.0
PRODID:-//empowercdc.org//NONSGML kigkonsult.se iCalcreator 2.30.10//
CALSCALE:GREGORIAN
METHOD:PUBLISH
UID:84296949-03b8-4d72-b596-51118d463469
X-WR-CALDESC:EXERCISE- BONA- CP\nSuper Senior Fitness\n@1:00PM\n\nSOCIAL-\n
 Texans Benefit-CP\n\nBirthday Social\n@ 2:30PM
X-WR-RELCALID:edd956d92da8cc78ccfacb526627b30a
X-WR-TIMEZONE:America/Chicago
BEGIN:VTIMEZONE
TZID:America/Chicago
BEGIN:STANDARD
TZNAME:CST
DTSTART:20241103T020000
TZOFFSETFROM:-0500
TZOFFSETTO:-0600
RDATE:20251102T020000
RDATE:20261101T020000
END:STANDARD
BEGIN:DAYLIGHT
TZNAME:CDT
DTSTART:20250309T020000
TZOFFSETFROM:-0600
TZOFFSETTO:-0500
RDATE:20260308T020000
END:DAYLIGHT
END:VTIMEZONE
BEGIN:VEVENT
UID:4d15d65a-26ab-4dd3-9115-09b79ce677ad
DTSTAMP:20260423T143124Z
DESCRIPTION:EXERCISE- BONA- CP\nSuper Senior Fitness\n@1:00PM\n\nSOCIAL-\nT
 exans Benefit-CP\n\nBirthday Social\n@ 2:30PM
DTSTART;TZID=America/Chicago:20250904T130000
DTEND;TZID=America/Chicago:20250904T153000
LOCATION:1830 Hollyoak Dr\, Houston\, TX 77084 US
SUMMARY:Hollyoak: Exercise\, Social
END:VEVENT
END:VCALENDAR
