BEGIN:VCALENDAR
VERSION:2.0
PRODID:-//empowercdc.org//NONSGML kigkonsult.se iCalcreator 2.30.10//
CALSCALE:GREGORIAN
METHOD:PUBLISH
UID:8bf98925-954b-4f39-8538-07c29d560f07
X-WR-CALDESC:SOCIAL-Texans Benefit\nBirthday Social\n@ 2:30 PM
X-WR-RELCALID:5ffd70b81638998b2c85d387a4cc4fee
X-WR-TIMEZONE:America/Chicago
BEGIN:VTIMEZONE
TZID:America/Chicago
BEGIN:STANDARD
TZNAME:CST
DTSTART:20241103T020000
TZOFFSETFROM:-0500
TZOFFSETTO:-0600
RDATE:20251102T020000
RDATE:20261101T020000
END:STANDARD
BEGIN:DAYLIGHT
TZNAME:CDT
DTSTART:20250309T020000
TZOFFSETFROM:-0600
TZOFFSETTO:-0500
RDATE:20260308T020000
END:DAYLIGHT
END:VTIMEZONE
BEGIN:VEVENT
UID:8783360c-ea43-4b00-8922-e75e6656fc56
DTSTAMP:20260423T145519Z
DESCRIPTION:SOCIAL-Texans Benefit\nBirthday Social\n@ 2:30 PM
DTSTART;TZID=America/Chicago:20250903T143000
DTEND;TZID=America/Chicago:20250903T153000
LOCATION:325 Flagship Boulevard\, Montgomery\, TX 77316 US
SUMMARY:The Heritage: Texans Benefit
END:VEVENT
END:VCALENDAR
