BEGIN:VCALENDAR
VERSION:2.0
PRODID:-//empowercdc.org//NONSGML kigkonsult.se iCalcreator 2.30.10//
CALSCALE:GREGORIAN
METHOD:PUBLISH
UID:5203a406-c194-40d9-b694-0827a214e418
X-WR-CALDESC:EXERCISE-\nClub 22- CP\n\nAdaptive Fitness\n@1:00PM
X-WR-RELCALID:d15d0553702c608559c6e152b4cb1b66
X-WR-TIMEZONE:America/Chicago
BEGIN:VTIMEZONE
TZID:America/Chicago
BEGIN:STANDARD
TZNAME:CST
DTSTART:20241103T020000
TZOFFSETFROM:-0500
TZOFFSETTO:-0600
RDATE:20251102T020000
RDATE:20261101T020000
END:STANDARD
BEGIN:DAYLIGHT
TZNAME:CDT
DTSTART:20250309T020000
TZOFFSETFROM:-0600
TZOFFSETTO:-0500
RDATE:20260308T020000
END:DAYLIGHT
END:VTIMEZONE
BEGIN:VEVENT
UID:fd826ec8-e51a-4597-a69a-2bfed989c659
DTSTAMP:20260423T142935Z
DESCRIPTION:EXERCISE-\nClub 22- CP\n\nAdaptive Fitness\n@1:00PM
DTSTART;TZID=America/Chicago:20250902T130000
DTEND;TZID=America/Chicago:20250902T140000
LOCATION:1830 Hollyoak Dr\, Houston\, TX 77084 US
SUMMARY:Hollyoak: Exercise
END:VEVENT
END:VCALENDAR
