BEGIN:VCALENDAR
VERSION:2.0
PRODID:-//empowercdc.org//NONSGML kigkonsult.se iCalcreator 2.30.10//
CALSCALE:GREGORIAN
METHOD:PUBLISH
UID:cfa262cb-9879-4fca-8828-31fbe7d67451
X-WR-CALDESC:SOCIAL\nSUMMER SENIOR FAIR\n@12PM
X-WR-RELCALID:e80947b6a940216bf8cad802b59dd98e
X-WR-TIMEZONE:America/Chicago
BEGIN:VTIMEZONE
TZID:America/Chicago
BEGIN:STANDARD
TZNAME:CST
DTSTART:20241103T020000
TZOFFSETFROM:-0500
TZOFFSETTO:-0600
RDATE:20251102T020000
RDATE:20261101T020000
END:STANDARD
BEGIN:DAYLIGHT
TZNAME:CDT
DTSTART:20250309T020000
TZOFFSETFROM:-0600
TZOFFSETTO:-0500
RDATE:20260308T020000
END:DAYLIGHT
END:VTIMEZONE
BEGIN:VEVENT
UID:a5363a07-9bbc-4ac0-b0cb-accfff33cb7f
DTSTAMP:20260423T133122Z
DESCRIPTION:SOCIAL\nSUMMER SENIOR FAIR\n@12PM
DTSTART;TZID=America/Chicago:20250828T120000
DTEND;TZID=America/Chicago:20250828T140000
LOCATION:15707 Kuykendahl Ct\, Conroe\, TX 77384 US
SUMMARY:Kuykendalh Court: Summer Senior Fair
END:VEVENT
END:VCALENDAR
