BEGIN:VCALENDAR
VERSION:2.0
PRODID:-//empowercdc.org//NONSGML kigkonsult.se iCalcreator 2.30.10//
CALSCALE:GREGORIAN
METHOD:PUBLISH
UID:6d17ea20-691d-4a69-be27-48be441a4b70
X-WR-CALDESC:HEALTH & NUTRITION- Suvida\nBingo Bonanza\n@ 12:00 PM
X-WR-RELCALID:80f5ebaa80f8ab8749ef55c7e7f6bb48
X-WR-TIMEZONE:America/Chicago
BEGIN:VTIMEZONE
TZID:America/Chicago
BEGIN:STANDARD
TZNAME:CST
DTSTART:20241103T020000
TZOFFSETFROM:-0500
TZOFFSETTO:-0600
RDATE:20251102T020000
RDATE:20261101T020000
END:STANDARD
BEGIN:DAYLIGHT
TZNAME:CDT
DTSTART:20250309T020000
TZOFFSETFROM:-0600
TZOFFSETTO:-0500
RDATE:20260308T020000
END:DAYLIGHT
END:VTIMEZONE
BEGIN:VEVENT
UID:837fbb9c-141e-4265-b03e-68758bab4336
DTSTAMP:20260423T132448Z
DESCRIPTION:HEALTH & NUTRITION- Suvida\nBingo Bonanza\n@ 12:00 PM
DTSTART;TZID=America/Chicago:20250828T120000
DTEND;TZID=America/Chicago:20250828T130000
LOCATION:1830 Hollyoak Dr\, Houston\, TX 77084 US
SUMMARY:Hollyoak: Health & Nutrition
END:VEVENT
END:VCALENDAR
