BEGIN:VCALENDAR
VERSION:2.0
PRODID:-//empowercdc.org//NONSGML kigkonsult.se iCalcreator 2.30.10//
CALSCALE:GREGORIAN
METHOD:PUBLISH
UID:40cdd7b9-9b0b-42c3-8da7-1b58aba53af0
X-WR-CALDESC:DISASTER PREPAREDNESS\nEMERGENCY KIT AND BASIC FIRST\nAID\n@3P
 M\n\nEXERCISE\nLINE DANCE\n@3:30PM\n\n*Resident only event*
X-WR-RELCALID:8f039b8b916d25a3570162b35fefe954
X-WR-TIMEZONE:America/Chicago
BEGIN:VTIMEZONE
TZID:America/Chicago
BEGIN:STANDARD
TZNAME:CST
DTSTART:20241103T020000
TZOFFSETFROM:-0500
TZOFFSETTO:-0600
RDATE:20251102T020000
RDATE:20261101T020000
END:STANDARD
BEGIN:DAYLIGHT
TZNAME:CDT
DTSTART:20250309T020000
TZOFFSETFROM:-0600
TZOFFSETTO:-0500
RDATE:20260308T020000
END:DAYLIGHT
END:VTIMEZONE
BEGIN:VEVENT
UID:21eee796-a489-49ae-9345-b9c144d6f4c4
DTSTAMP:20260423T130525Z
DESCRIPTION:DISASTER PREPAREDNESS\nEMERGENCY KIT AND BASIC FIRST\nAID\n@3PM
 \n\nEXERCISE\nLINE DANCE\n@3:30PM\n\n*Resident only event*
DTSTART;TZID=America/Chicago:20250826T150000
DTEND;TZID=America/Chicago:20250826T163000
LOCATION:1620 Spencer Hwy\, South Houston\, TX 77587 US
SUMMARY:Windsor Gardens: Disaster Preparedness\, Exercise
END:VEVENT
END:VCALENDAR
