BEGIN:VCALENDAR
VERSION:2.0
PRODID:-//empowercdc.org//NONSGML kigkonsult.se iCalcreator 2.30.10//
CALSCALE:GREGORIAN
METHOD:PUBLISH
UID:9638b0c4-d7de-407b-8ccc-623b4cdbc416
X-WR-CALDESC:ARTS & CRAFTS\nBEADED RING KEYCHAINS\n@10AM\n\nEXERCISE\nFITNE
 SS BINGO\n@11AM\n\n*Resident only event*
X-WR-RELCALID:32d9cd03b6bd4db510a5c93a203a984e
X-WR-TIMEZONE:America/Chicago
BEGIN:VTIMEZONE
TZID:America/Chicago
BEGIN:STANDARD
TZNAME:CST
DTSTART:20241103T020000
TZOFFSETFROM:-0500
TZOFFSETTO:-0600
RDATE:20251102T020000
RDATE:20261101T020000
END:STANDARD
BEGIN:DAYLIGHT
TZNAME:CDT
DTSTART:20250309T020000
TZOFFSETFROM:-0600
TZOFFSETTO:-0500
RDATE:20260308T020000
END:DAYLIGHT
END:VTIMEZONE
BEGIN:VEVENT
UID:63872678-cb4f-473f-870d-691df2569d4a
DTSTAMP:20260423T132504Z
DESCRIPTION:ARTS & CRAFTS\nBEADED RING KEYCHAINS\n@10AM\n\nEXERCISE\nFITNES
 S BINGO\n@11AM\n\n*Resident only event*
DTSTART;TZID=America/Chicago:20250826T100000
DTEND;TZID=America/Chicago:20250826T120000
LOCATION:1717 FM359\, Richmond\, TX 77406 US
SUMMARY:Jones Creek: Arts & Crafts\, Exercise
END:VEVENT
END:VCALENDAR
