BEGIN:VCALENDAR
VERSION:2.0
PRODID:-//empowercdc.org//NONSGML kigkonsult.se iCalcreator 2.30.10//
CALSCALE:GREGORIAN
METHOD:PUBLISH
UID:50affd17-7540-4029-8a5e-86362bcc5d03
X-WR-CALDESC:ARTS & CRAFTS\nDIY BUBBLES\n@3PM\n\n*Resident only event*
X-WR-RELCALID:4b6b9cd4b66e6616610361a4167374f5
X-WR-TIMEZONE:America/Chicago
BEGIN:VTIMEZONE
TZID:America/Chicago
BEGIN:STANDARD
TZNAME:CST
DTSTART:20241103T020000
TZOFFSETFROM:-0500
TZOFFSETTO:-0600
RDATE:20251102T020000
RDATE:20261101T020000
END:STANDARD
BEGIN:DAYLIGHT
TZNAME:CDT
DTSTART:20250309T020000
TZOFFSETFROM:-0600
TZOFFSETTO:-0500
RDATE:20260308T020000
END:DAYLIGHT
END:VTIMEZONE
BEGIN:VEVENT
UID:e51e0db8-cbe5-4f08-a50a-6a1fcea62251
DTSTAMP:20260423T131317Z
DESCRIPTION:ARTS & CRAFTS\nDIY BUBBLES\n@3PM\n\n*Resident only event*
DTSTART;TZID=America/Chicago:20250825T150000
DTEND;TZID=America/Chicago:20250825T160000
LOCATION:1620 Spencer Hwy\, South Houston\, TX 77587 US
SUMMARY:Windsor Gardens: Arts & Crafts
END:VEVENT
END:VCALENDAR
