BEGIN:VCALENDAR
VERSION:2.0
PRODID:-//empowercdc.org//NONSGML kigkonsult.se iCalcreator 2.30.10//
CALSCALE:GREGORIAN
METHOD:PUBLISH
UID:945337b0-e15e-4035-87f1-8a601aeb9370
X-WR-CALDESC:Financial Planning-\nEmpower\n\nThe Price Is Right\n@2:00 PM
X-WR-RELCALID:43ed1ca43bc02fdd85a08866419455d8
X-WR-TIMEZONE:America/Chicago
BEGIN:VTIMEZONE
TZID:America/Chicago
BEGIN:STANDARD
TZNAME:CST
DTSTART:20241103T020000
TZOFFSETFROM:-0500
TZOFFSETTO:-0600
RDATE:20251102T020000
RDATE:20261101T020000
END:STANDARD
BEGIN:DAYLIGHT
TZNAME:CDT
DTSTART:20250309T020000
TZOFFSETFROM:-0600
TZOFFSETTO:-0500
RDATE:20260308T020000
END:DAYLIGHT
END:VTIMEZONE
BEGIN:VEVENT
UID:47d13d78-949a-4abd-b6b9-ead224511b7e
DTSTAMP:20260423T132747Z
DESCRIPTION:Financial Planning-\nEmpower\n\nThe Price Is Right\n@2:00 PM
DTSTART;TZID=America/Chicago:20250825T140000
DTEND;TZID=America/Chicago:20250825T150000
LOCATION:325 Flagship Boulevard\, Montgomery\, TX 77316 US
SUMMARY:The Heritage: Financial Planning
END:VEVENT
END:VCALENDAR
