BEGIN:VCALENDAR
VERSION:2.0
PRODID:-//empowercdc.org//NONSGML kigkonsult.se iCalcreator 2.30.10//
CALSCALE:GREGORIAN
METHOD:PUBLISH
UID:bfa48589-faa6-4920-a7ce-e57008cc9681
X-WR-CALDESC:TxSMP- Empower\nScam of the Month\n@11:00AM
X-WR-RELCALID:f5f140e205ec87e20de17a8fc58e3c34
X-WR-TIMEZONE:America/Chicago
BEGIN:VTIMEZONE
TZID:America/Chicago
BEGIN:STANDARD
TZNAME:CST
DTSTART:20241103T020000
TZOFFSETFROM:-0500
TZOFFSETTO:-0600
RDATE:20251102T020000
RDATE:20261101T020000
END:STANDARD
BEGIN:DAYLIGHT
TZNAME:CDT
DTSTART:20250309T020000
TZOFFSETFROM:-0600
TZOFFSETTO:-0500
RDATE:20260308T020000
END:DAYLIGHT
END:VTIMEZONE
BEGIN:VEVENT
UID:ec368004-1ee3-4f1a-8e0b-6c8f3251bae8
DTSTAMP:20260423T132917Z
DESCRIPTION:TxSMP- Empower\nScam of the Month\n@11:00AM
DTSTART;TZID=America/Chicago:20250825T110000
DTEND;TZID=America/Chicago:20250825T120000
LOCATION:219 Flagship Blvd\, Montgomery\, TX 77316 US
SUMMARY:The Heritage 55+: TxSMP
END:VEVENT
END:VCALENDAR
