BEGIN:VCALENDAR
VERSION:2.0
PRODID:-//empowercdc.org//NONSGML kigkonsult.se iCalcreator 2.30.10//
CALSCALE:GREGORIAN
METHOD:PUBLISH
UID:9bb11d7f-b006-4fd1-bc9c-aba1c2406352
X-WR-CALDESC:SOCIAL-\nHollyoak/Empower\n\nCasino Night @ 7PM
X-WR-RELCALID:50ae236d70692ec11d76852d5ba45420
X-WR-TIMEZONE:America/Chicago
BEGIN:VTIMEZONE
TZID:America/Chicago
BEGIN:STANDARD
TZNAME:CST
DTSTART:20241103T020000
TZOFFSETFROM:-0500
TZOFFSETTO:-0600
RDATE:20251102T020000
RDATE:20261101T020000
END:STANDARD
BEGIN:DAYLIGHT
TZNAME:CDT
DTSTART:20250309T020000
TZOFFSETFROM:-0600
TZOFFSETTO:-0500
RDATE:20260308T020000
END:DAYLIGHT
END:VTIMEZONE
BEGIN:VEVENT
UID:63640f1e-4751-43c6-9697-3ea023b5b9c6
DTSTAMP:20260423T132325Z
DESCRIPTION:SOCIAL-\nHollyoak/Empower\n\nCasino Night @ 7PM
DTSTART;TZID=America/Chicago:20250822T190000
DTEND;TZID=America/Chicago:20250822T203000
LOCATION:1830 Hollyoak Dr\, Houston\, TX 77084 US
SUMMARY:Hollyoak: Social
END:VEVENT
END:VCALENDAR
