BEGIN:VCALENDAR
VERSION:2.0
PRODID:-//empowercdc.org//NONSGML kigkonsult.se iCalcreator 2.30.10//
CALSCALE:GREGORIAN
METHOD:PUBLISH
UID:18a9d17f-743b-4dba-a8c6-598eaf5a89a5
X-WR-CALDESC:FOOD PANTRY-\nEmpower\n\nFood Pantry\n@ 2:00PM\n\nTxSMP- Empow
 er\nScam of the Month\n@3:00PM
X-WR-RELCALID:e7678d65c4296402835297c788e0551d
X-WR-TIMEZONE:America/Chicago
BEGIN:VTIMEZONE
TZID:America/Chicago
BEGIN:STANDARD
TZNAME:CST
DTSTART:20241103T020000
TZOFFSETFROM:-0500
TZOFFSETTO:-0600
RDATE:20251102T020000
RDATE:20261101T020000
END:STANDARD
BEGIN:DAYLIGHT
TZNAME:CDT
DTSTART:20250309T020000
TZOFFSETFROM:-0600
TZOFFSETTO:-0500
RDATE:20260308T020000
END:DAYLIGHT
END:VTIMEZONE
BEGIN:VEVENT
UID:d11ee99f-7ab0-4b1f-b44d-6a619ceb7371
DTSTAMP:20260423T133201Z
DESCRIPTION:FOOD PANTRY-\nEmpower\n\nFood Pantry\n@ 2:00PM\n\nTxSMP- Empowe
 r\nScam of the Month\n@3:00PM
DTSTART;TZID=America/Chicago:20250821T140000
DTEND;TZID=America/Chicago:20250821T160000
LOCATION:325 Flagship Boulevard\, Montgomery\, TX 77316 US
SUMMARY:The Heritage: Food Pantry\, TxSMP
END:VEVENT
END:VCALENDAR
