BEGIN:VCALENDAR
VERSION:2.0
PRODID:-//empowercdc.org//NONSGML kigkonsult.se iCalcreator 2.30.10//
CALSCALE:GREGORIAN
METHOD:PUBLISH
UID:9db78b4c-051d-40b1-8207-3ace2641bf12
X-WR-CALDESC:ARTS & CRAFTS- Empower\nHomemade Foot Scrubs\n@10:00 AM
X-WR-RELCALID:06b143750d3ccda034a05093d1aad714
X-WR-TIMEZONE:America/Chicago
BEGIN:VTIMEZONE
TZID:America/Chicago
BEGIN:STANDARD
TZNAME:CST
DTSTART:20241103T020000
TZOFFSETFROM:-0500
TZOFFSETTO:-0600
RDATE:20251102T020000
RDATE:20261101T020000
END:STANDARD
BEGIN:DAYLIGHT
TZNAME:CDT
DTSTART:20250309T020000
TZOFFSETFROM:-0600
TZOFFSETTO:-0500
RDATE:20260308T020000
END:DAYLIGHT
END:VTIMEZONE
BEGIN:VEVENT
UID:6a3325df-48a6-47c2-babe-22144373880c
DTSTAMP:20260423T130700Z
DESCRIPTION:ARTS & CRAFTS- Empower\nHomemade Foot Scrubs\n@10:00 AM
DTSTART;TZID=America/Chicago:20250821T100000
DTEND;TZID=America/Chicago:20250821T110000
LOCATION:219 Flagship Blvd\, Montgomery\, TX 77316 US
SUMMARY:The Heritage 55+: Arts & Crafts
END:VEVENT
END:VCALENDAR
