BEGIN:VCALENDAR
VERSION:2.0
PRODID:-//empowercdc.org//NONSGML kigkonsult.se iCalcreator 2.30.10//
CALSCALE:GREGORIAN
METHOD:PUBLISH
UID:36adfd3a-38e2-4cf2-bbe9-5ef70e45c8f9
X-WR-CALDESC:EXERCISE\nFITNESS BINGO\n@10AM\n\n*Resident only event*
X-WR-RELCALID:56c4dfcccebd9040a2396d6272f60245
X-WR-TIMEZONE:America/Chicago
BEGIN:VTIMEZONE
TZID:America/Chicago
BEGIN:STANDARD
TZNAME:CST
DTSTART:20241103T020000
TZOFFSETFROM:-0500
TZOFFSETTO:-0600
RDATE:20251102T020000
RDATE:20261101T020000
END:STANDARD
BEGIN:DAYLIGHT
TZNAME:CDT
DTSTART:20250309T020000
TZOFFSETFROM:-0600
TZOFFSETTO:-0500
RDATE:20260308T020000
END:DAYLIGHT
END:VTIMEZONE
BEGIN:VEVENT
UID:b64df744-cac0-473a-9d6c-d3089b5bc968
DTSTAMP:20260423T130358Z
DESCRIPTION:EXERCISE\nFITNESS BINGO\n@10AM\n\n*Resident only event*
DTSTART;TZID=America/Chicago:20250819T100000
DTEND;TZID=America/Chicago:20250819T110000
LOCATION:1717 FM359\, Richmond\, TX 77406 US
SUMMARY:Jones Creek: Exercise
END:VEVENT
END:VCALENDAR
