BEGIN:VCALENDAR
VERSION:2.0
PRODID:-//empowercdc.org//NONSGML kigkonsult.se iCalcreator 2.30.10//
CALSCALE:GREGORIAN
METHOD:PUBLISH
UID:b89db1a5-7206-4610-8090-3d4f1159c7a1
X-WR-CALDESC:ARTS & CRAFTS\nEmpower\nPainting w/ a Twist\n@2:00 PM\n\nSOCIA
 L - Empower\nBirthday Social\n@ 3:00 PM\n\n*Resident only event*
X-WR-RELCALID:a456ed4c1c8d724d69cde4bdbc44dd3a
X-WR-TIMEZONE:America/Chicago
BEGIN:VTIMEZONE
TZID:America/Chicago
BEGIN:STANDARD
TZNAME:CST
DTSTART:20241103T020000
TZOFFSETFROM:-0500
TZOFFSETTO:-0600
RDATE:20251102T020000
RDATE:20261101T020000
END:STANDARD
BEGIN:DAYLIGHT
TZNAME:CDT
DTSTART:20250309T020000
TZOFFSETFROM:-0600
TZOFFSETTO:-0500
RDATE:20260308T020000
END:DAYLIGHT
END:VTIMEZONE
BEGIN:VEVENT
UID:322059c7-b01c-4d81-91db-565a519c7a55
DTSTAMP:20260423T132841Z
DESCRIPTION:ARTS & CRAFTS\nEmpower\nPainting w/ a Twist\n@2:00 PM\n\nSOCIAL
  - Empower\nBirthday Social\n@ 3:00 PM\n\n*Resident only event*
DTSTART;TZID=America/Chicago:20250819T140000
DTEND;TZID=America/Chicago:20250819T160000
LOCATION:6725 Brittmoore Road\, Houston\, TX 77041 US
SUMMARY:Brittmoore: Arts & Crafts\, Social
END:VEVENT
END:VCALENDAR
