BEGIN:VCALENDAR
VERSION:2.0
PRODID:-//empowercdc.org//NONSGML kigkonsult.se iCalcreator 2.30.10//
CALSCALE:GREGORIAN
METHOD:PUBLISH
UID:9925e8ce-f5d9-4ee9-a358-c8780ac183d2
X-WR-CALDESC:SOCIAL\nSUMMER FAIR\n@3:30PM\n\n*Resident only event*
X-WR-RELCALID:576ef3ebb1a26e19bd8947236a566731
X-WR-TIMEZONE:America/Chicago
BEGIN:VTIMEZONE
TZID:America/Chicago
BEGIN:STANDARD
TZNAME:CST
DTSTART:20241103T020000
TZOFFSETFROM:-0500
TZOFFSETTO:-0600
RDATE:20251102T020000
RDATE:20261101T020000
END:STANDARD
BEGIN:DAYLIGHT
TZNAME:CDT
DTSTART:20250309T020000
TZOFFSETFROM:-0600
TZOFFSETTO:-0500
RDATE:20260308T020000
END:DAYLIGHT
END:VTIMEZONE
BEGIN:VEVENT
UID:f1aa43b0-06c1-4a19-af3d-fb156519fcb6
DTSTAMP:20260423T130543Z
DESCRIPTION:SOCIAL\nSUMMER FAIR\n@3:30PM\n\n*Resident only event*
DTSTART;TZID=America/Chicago:20250818T153000
DTEND;TZID=America/Chicago:20250818T163000
LOCATION:1620 Spencer Hwy\, South Houston\, TX 77587 US
SUMMARY:Windsor Gardens: Summer Fair
END:VEVENT
END:VCALENDAR
