BEGIN:VCALENDAR
VERSION:2.0
PRODID:-//empowercdc.org//NONSGML kigkonsult.se iCalcreator 2.30.10//
CALSCALE:GREGORIAN
METHOD:PUBLISH
UID:9e367d11-57b9-475e-bf79-aefcb620c6e5
X-WR-CALDESC:SOCIAL- Empower\nSummer Fair\n@2:00 PM
X-WR-RELCALID:3107a1612aca8b7827b557695cc67116
X-WR-TIMEZONE:America/Chicago
BEGIN:VTIMEZONE
TZID:America/Chicago
BEGIN:STANDARD
TZNAME:CST
DTSTART:20241103T020000
TZOFFSETFROM:-0500
TZOFFSETTO:-0600
RDATE:20251102T020000
RDATE:20261101T020000
END:STANDARD
BEGIN:DAYLIGHT
TZNAME:CDT
DTSTART:20250309T020000
TZOFFSETFROM:-0600
TZOFFSETTO:-0500
RDATE:20260308T020000
END:DAYLIGHT
END:VTIMEZONE
BEGIN:VEVENT
UID:628d7185-7079-4ae8-ad19-a1254ef8eea5
DTSTAMP:20260423T132325Z
DESCRIPTION:SOCIAL- Empower\nSummer Fair\n@2:00 PM
DTSTART;TZID=America/Chicago:20250818T140000
DTEND;TZID=America/Chicago:20250818T153000
LOCATION:325 Flagship Boulevard\, Montgomery\, TX 77316 US
SUMMARY:The Heritage: Summer Fair
END:VEVENT
END:VCALENDAR
