BEGIN:VCALENDAR
VERSION:2.0
PRODID:-//empowercdc.org//NONSGML kigkonsult.se iCalcreator 2.30.10//
CALSCALE:GREGORIAN
METHOD:PUBLISH
UID:0a7cfb71-2332-482d-a4f1-7156cca75996
X-WR-CALDESC:ARTS & CRAFTS-\nEmpower\n\nDiamond Painting\n@11:00 AM
X-WR-RELCALID:429e469720348fea57c13f509e094edc
X-WR-TIMEZONE:America/Chicago
BEGIN:VTIMEZONE
TZID:America/Chicago
BEGIN:STANDARD
TZNAME:CST
DTSTART:20241103T020000
TZOFFSETFROM:-0500
TZOFFSETTO:-0600
RDATE:20251102T020000
RDATE:20261101T020000
END:STANDARD
BEGIN:DAYLIGHT
TZNAME:CDT
DTSTART:20250309T020000
TZOFFSETFROM:-0600
TZOFFSETTO:-0500
RDATE:20260308T020000
END:DAYLIGHT
END:VTIMEZONE
BEGIN:VEVENT
UID:97ba66e4-062a-4fa9-ae54-94851e87b8e9
DTSTAMP:20260423T132203Z
DESCRIPTION:ARTS & CRAFTS-\nEmpower\n\nDiamond Painting\n@11:00 AM
DTSTART;TZID=America/Chicago:20250815T110000
DTEND;TZID=America/Chicago:20250815T120000
LOCATION:1830 Hollyoak Dr\, Houston\, TX 77084 US
SUMMARY:Hollyoak: Arts & Crafts
END:VEVENT
END:VCALENDAR
