BEGIN:VCALENDAR
VERSION:2.0
PRODID:-//empowercdc.org//NONSGML kigkonsult.se iCalcreator 2.30.10//
CALSCALE:GREGORIAN
METHOD:PUBLISH
UID:f985d165-3d6a-408f-a67e-ec9b9885a62b
X-WR-CALDESC:TxSMP- Empower\nScam of the Month\n@2:00 PM\n\nARTS & CRAFTS-
 \nEmpower\n\nHomemade Foot Scrub\n@3:00 PM
X-WR-RELCALID:7ad93b0bc2bbb4b08fcaf32d5e8d3345
X-WR-TIMEZONE:America/Chicago
BEGIN:VTIMEZONE
TZID:America/Chicago
BEGIN:STANDARD
TZNAME:CST
DTSTART:20241103T020000
TZOFFSETFROM:-0500
TZOFFSETTO:-0600
RDATE:20251102T020000
RDATE:20261101T020000
END:STANDARD
BEGIN:DAYLIGHT
TZNAME:CDT
DTSTART:20250309T020000
TZOFFSETFROM:-0600
TZOFFSETTO:-0500
RDATE:20260308T020000
END:DAYLIGHT
END:VTIMEZONE
BEGIN:VEVENT
UID:aca2ae67-6e93-48a2-b252-b638c8e4fb34
DTSTAMP:20260423T132716Z
DESCRIPTION:TxSMP- Empower\nScam of the Month\n@2:00 PM\n\nARTS & CRAFTS-\n
 Empower\n\nHomemade Foot Scrub\n@3:00 PM
DTSTART;TZID=America/Chicago:20250814T140000
DTEND;TZID=America/Chicago:20250814T160000
LOCATION:325 Flagship Boulevard\, Montgomery\, TX 77316 US
SUMMARY:The Heritage: TxSMP\, Arts & Crafts
END:VEVENT
END:VCALENDAR
