BEGIN:VCALENDAR
VERSION:2.0
PRODID:-//empowercdc.org//NONSGML kigkonsult.se iCalcreator 2.30.10//
CALSCALE:GREGORIAN
METHOD:PUBLISH
UID:0ed62445-2e4e-470b-b523-fd5a851fd068
X-WR-CALDESC:TX SMP\nSCAM OF THE MONTH\n@10AM\n\nARTS & CRAFTS\nDIY POTHOLD
 ERS\n@11AM
X-WR-RELCALID:cc2272bf8dc6fb2d342fcf769a0bedff
X-WR-TIMEZONE:America/Chicago
BEGIN:VTIMEZONE
TZID:America/Chicago
BEGIN:STANDARD
TZNAME:CST
DTSTART:20241103T020000
TZOFFSETFROM:-0500
TZOFFSETTO:-0600
RDATE:20251102T020000
RDATE:20261101T020000
END:STANDARD
BEGIN:DAYLIGHT
TZNAME:CDT
DTSTART:20250309T020000
TZOFFSETFROM:-0600
TZOFFSETTO:-0500
RDATE:20260308T020000
END:DAYLIGHT
END:VTIMEZONE
BEGIN:VEVENT
UID:adb6948c-8cb0-49fc-beb1-1223614c2993
DTSTAMP:20260423T132738Z
DESCRIPTION:TX SMP\nSCAM OF THE MONTH\n@10AM\n\nARTS & CRAFTS\nDIY POTHOLDE
 RS\n@11AM
DTSTART;TZID=America/Chicago:20250814T100000
DTEND;TZID=America/Chicago:20250814T120000
LOCATION:15707 Kuykendahl Ct\, Conroe\, TX 77384 US
SUMMARY:Kuykendalh Court: TX SMP\, Arts & Crafts
END:VEVENT
END:VCALENDAR
