BEGIN:VCALENDAR
VERSION:2.0
PRODID:-//empowercdc.org//NONSGML kigkonsult.se iCalcreator 2.30.10//
CALSCALE:GREGORIAN
METHOD:PUBLISH
UID:4964b971-87a4-4a1d-b86c-865f1da53f9b
X-WR-CALDESC:EXERCISE- Unity Fitness\nChair Dance\n@10:00 AM\n\nHEALTH & NU
 TRITION- Empower\nSummer Fair @11:00
X-WR-RELCALID:ebfd0566c4ef5f029c225b6e439d3cc1
X-WR-TIMEZONE:America/Chicago
BEGIN:VTIMEZONE
TZID:America/Chicago
BEGIN:STANDARD
TZNAME:CST
DTSTART:20241103T020000
TZOFFSETFROM:-0500
TZOFFSETTO:-0600
RDATE:20251102T020000
RDATE:20261101T020000
END:STANDARD
BEGIN:DAYLIGHT
TZNAME:CDT
DTSTART:20250309T020000
TZOFFSETFROM:-0600
TZOFFSETTO:-0500
RDATE:20260308T020000
END:DAYLIGHT
END:VTIMEZONE
BEGIN:VEVENT
UID:0ecc76d0-49fc-458c-ba1b-e061bb07f78b
DTSTAMP:20260423T132250Z
DESCRIPTION:EXERCISE- Unity Fitness\nChair Dance\n@10:00 AM\n\nHEALTH & NUT
 RITION- Empower\nSummer Fair @11:00
DTSTART;TZID=America/Chicago:20250813T100000
DTEND;TZID=America/Chicago:20250813T120000
LOCATION:1830 Hollyoak Dr\, Houston\, TX 77084 US
SUMMARY:Hollyoak: Exercise\, Health & Nutrition
END:VEVENT
END:VCALENDAR
