BEGIN:VCALENDAR
VERSION:2.0
PRODID:-//empowercdc.org//NONSGML kigkonsult.se iCalcreator 2.30.10//
CALSCALE:GREGORIAN
METHOD:PUBLISH
UID:7f76885c-7aa6-4b46-bf0d-fe197317eaa6
X-WR-CALDESC:FOOD PANTRY\n@1PM\n\nTX SMP\nSCAM OF THE MONTH\n@2PM\n*Residen
 t only event*
X-WR-RELCALID:97ed6d6c7e0b6babcdb3d12ac4f86cac
X-WR-TIMEZONE:America/Chicago
BEGIN:VTIMEZONE
TZID:America/Chicago
BEGIN:STANDARD
TZNAME:CST
DTSTART:20241103T020000
TZOFFSETFROM:-0500
TZOFFSETTO:-0600
RDATE:20251102T020000
RDATE:20261101T020000
END:STANDARD
BEGIN:DAYLIGHT
TZNAME:CDT
DTSTART:20250309T020000
TZOFFSETFROM:-0600
TZOFFSETTO:-0500
RDATE:20260308T020000
END:DAYLIGHT
END:VTIMEZONE
BEGIN:VEVENT
UID:3881ce1b-3966-4c43-8dae-781be161a7ea
DTSTAMP:20260423T132503Z
DESCRIPTION:FOOD PANTRY\n@1PM\n\nTX SMP\nSCAM OF THE MONTH\n@2PM\n*Resident
  only event*
DTSTART;TZID=America/Chicago:20250812T130000
DTEND;TZID=America/Chicago:20250812T150000
LOCATION:1620 Spencer Hwy\, South Houston\, TX 77587 US
SUMMARY:Windsor Gardens: Food Pantry\, TX SMP
END:VEVENT
END:VCALENDAR
