BEGIN:VCALENDAR
VERSION:2.0
PRODID:-//empowercdc.org//NONSGML kigkonsult.se iCalcreator 2.30.10//
CALSCALE:GREGORIAN
METHOD:PUBLISH
UID:ed334817-f239-41af-bed1-90ba45031602
X-WR-CALDESC:Senior Literacy 101-\nEmpower\nEmail Accounts Pt. 6\n@ 11:00AM
 \n\nTxSMP- Empower\nScam of the Month\n@12:00PM
X-WR-RELCALID:13e592cd49433b3efdc2d4b9941433e1
X-WR-TIMEZONE:America/Chicago
BEGIN:VTIMEZONE
TZID:America/Chicago
BEGIN:STANDARD
TZNAME:CST
DTSTART:20241103T020000
TZOFFSETFROM:-0500
TZOFFSETTO:-0600
RDATE:20251102T020000
RDATE:20261101T020000
END:STANDARD
BEGIN:DAYLIGHT
TZNAME:CDT
DTSTART:20250309T020000
TZOFFSETFROM:-0600
TZOFFSETTO:-0500
RDATE:20260308T020000
END:DAYLIGHT
END:VTIMEZONE
BEGIN:VEVENT
UID:f5baa49a-08aa-43d4-96c8-f909b27576aa
DTSTAMP:20260423T133223Z
DESCRIPTION:Senior Literacy 101-\nEmpower\nEmail Accounts Pt. 6\n@ 11:00AM
 \n\nTxSMP- Empower\nScam of the Month\n@12:00PM
DTSTART;TZID=America/Chicago:20250812T110000
DTEND;TZID=America/Chicago:20250812T130000
LOCATION:1830 Hollyoak Dr\, Houston\, TX 77084 US
SUMMARY:Hollyoak: Senior Literacy 101\, TX SMP
END:VEVENT
END:VCALENDAR
