BEGIN:VCALENDAR
VERSION:2.0
PRODID:-//empowercdc.org//NONSGML kigkonsult.se iCalcreator 2.30.10//
CALSCALE:GREGORIAN
METHOD:PUBLISH
UID:63a28363-7683-4c19-8dfe-9deb21b6f996
X-WR-CALDESC:CHARACTER\nBUILDING-Empower\nGrowth @ 2:30PM
X-WR-RELCALID:25c41443ee77163e08d853380ea05a35
X-WR-TIMEZONE:America/Chicago
BEGIN:VTIMEZONE
TZID:America/Chicago
BEGIN:STANDARD
TZNAME:CST
DTSTART:20241103T020000
TZOFFSETFROM:-0500
TZOFFSETTO:-0600
RDATE:20251102T020000
RDATE:20261101T020000
END:STANDARD
BEGIN:DAYLIGHT
TZNAME:CDT
DTSTART:20250309T020000
TZOFFSETFROM:-0600
TZOFFSETTO:-0500
RDATE:20260308T020000
END:DAYLIGHT
END:VTIMEZONE
BEGIN:VEVENT
UID:0be3cfee-e725-42f6-99b0-32186084140e
DTSTAMP:20260423T131455Z
DESCRIPTION:CHARACTER\nBUILDING-Empower\nGrowth @ 2:30PM
DTSTART;TZID=America/Chicago:20250811T143000
DTEND;TZID=America/Chicago:20250811T153000
LOCATION:325 Flagship Boulevard\, Montgomery\, TX 77316 US
SUMMARY:The Heritage:Character Building
END:VEVENT
END:VCALENDAR
