BEGIN:VCALENDAR
VERSION:2.0
PRODID:-//empowercdc.org//NONSGML kigkonsult.se iCalcreator 2.30.10//
CALSCALE:GREGORIAN
METHOD:PUBLISH
UID:4317ac79-dde5-4258-8d45-64f14b05d880
X-WR-CALDESC:TX SMP\nTRIVIA GAME\n@10AM\n\nEXERCISE\nFITNESS BINGO\n@10:30A
 M\n\n*Resident only event*
X-WR-RELCALID:fb6cfd75c24961dbc560edab1aa3a9e4
X-WR-TIMEZONE:America/Chicago
BEGIN:VTIMEZONE
TZID:America/Chicago
BEGIN:STANDARD
TZNAME:CST
DTSTART:20241103T020000
TZOFFSETFROM:-0500
TZOFFSETTO:-0600
RDATE:20251102T020000
RDATE:20261101T020000
END:STANDARD
BEGIN:DAYLIGHT
TZNAME:CDT
DTSTART:20250309T020000
TZOFFSETFROM:-0600
TZOFFSETTO:-0500
RDATE:20260308T020000
END:DAYLIGHT
END:VTIMEZONE
BEGIN:VEVENT
UID:ebe9debc-45a8-436f-ba39-e40e0b85fc0c
DTSTAMP:20260423T132208Z
DESCRIPTION:TX SMP\nTRIVIA GAME\n@10AM\n\nEXERCISE\nFITNESS BINGO\n@10:30AM
 \n\n*Resident only event*
DTSTART;TZID=America/Chicago:20250811T100000
DTEND;TZID=America/Chicago:20250811T113000
LOCATION:1717 FM359\, Richmond\, TX 77406 US
SUMMARY:Jones Creek: TX SMP\, Exercise
END:VEVENT
END:VCALENDAR
