BEGIN:VCALENDAR
VERSION:2.0
PRODID:-//empowercdc.org//NONSGML kigkonsult.se iCalcreator 2.30.10//
CALSCALE:GREGORIAN
METHOD:PUBLISH
UID:5b40eec6-be17-45b8-bfbc-4d07e78ca1ef
X-WR-CALDESC:EXERCISE- BONA\nSuper Senior Fitness\n@1:00PM\n\nSOCIAL- Texan
 s Benefit\nBirthday Social\n@ 2:30 PM
X-WR-RELCALID:dd69939be81e257668bf5099b210df59
X-WR-TIMEZONE:America/Chicago
BEGIN:VTIMEZONE
TZID:America/Chicago
BEGIN:STANDARD
TZNAME:CST
DTSTART:20241103T020000
TZOFFSETFROM:-0500
TZOFFSETTO:-0600
RDATE:20251102T020000
RDATE:20261101T020000
END:STANDARD
BEGIN:DAYLIGHT
TZNAME:CDT
DTSTART:20250309T020000
TZOFFSETFROM:-0600
TZOFFSETTO:-0500
RDATE:20260308T020000
END:DAYLIGHT
END:VTIMEZONE
BEGIN:VEVENT
UID:c2636726-d7a0-4619-a7fc-92a53bcd479a
DTSTAMP:20260423T130449Z
DESCRIPTION:EXERCISE- BONA\nSuper Senior Fitness\n@1:00PM\n\nSOCIAL- Texans
  Benefit\nBirthday Social\n@ 2:30 PM
DTSTART;TZID=America/Chicago:20250807T130000
DTEND;TZID=America/Chicago:20250807T153000
LOCATION:1830 Hollyoak Dr\, Houston\, TX 77084 US
SUMMARY:Hollyoak: Exercise\, Social
END:VEVENT
END:VCALENDAR
