BEGIN:VCALENDAR
VERSION:2.0
PRODID:-//empowercdc.org//NONSGML kigkonsult.se iCalcreator 2.30.10//
CALSCALE:GREGORIAN
METHOD:PUBLISH
UID:ead905f2-3d1d-42dc-8f40-18a6b4f1b4dc
X-WR-CALDESC:SOCIAL-Texans Benefit\nBirthday Social\n@ 2:30 PM
X-WR-RELCALID:fd5036496f9967beca487f5f9c3ee421
X-WR-TIMEZONE:America/Chicago
BEGIN:VTIMEZONE
TZID:America/Chicago
BEGIN:STANDARD
TZNAME:CST
DTSTART:20241103T020000
TZOFFSETFROM:-0500
TZOFFSETTO:-0600
RDATE:20251102T020000
RDATE:20261101T020000
END:STANDARD
BEGIN:DAYLIGHT
TZNAME:CDT
DTSTART:20250309T020000
TZOFFSETFROM:-0600
TZOFFSETTO:-0500
RDATE:20260308T020000
END:DAYLIGHT
END:VTIMEZONE
BEGIN:VEVENT
UID:fee049d9-fe80-40eb-b6d6-b9921acd672d
DTSTAMP:20260423T130649Z
DESCRIPTION:SOCIAL-Texans Benefit\nBirthday Social\n@ 2:30 PM
DTSTART;TZID=America/Chicago:20250806T143000
DTEND;TZID=America/Chicago:20250806T153000
LOCATION:325 Flagship Boulevard\, Montgomery\, TX 77316 US
SUMMARY:The Heritage: Texans Benefit
END:VEVENT
END:VCALENDAR
