BEGIN:VCALENDAR
VERSION:2.0
PRODID:-//empowercdc.org//NONSGML kigkonsult.se iCalcreator 2.30.10//
CALSCALE:GREGORIAN
METHOD:PUBLISH
UID:79dada46-022a-4875-8e17-8e312b4111e1
X-WR-CALDESC:SOCIAL-\nTexans Benefit\n\nBirthday Social\n@ 12:30 PM
X-WR-RELCALID:f2027ddfcbe1d0195af631c8df91fada
X-WR-TIMEZONE:America/Chicago
BEGIN:VTIMEZONE
TZID:America/Chicago
BEGIN:STANDARD
TZNAME:CST
DTSTART:20241103T020000
TZOFFSETFROM:-0500
TZOFFSETTO:-0600
RDATE:20251102T020000
RDATE:20261101T020000
END:STANDARD
BEGIN:DAYLIGHT
TZNAME:CDT
DTSTART:20250309T020000
TZOFFSETFROM:-0600
TZOFFSETTO:-0500
RDATE:20260308T020000
END:DAYLIGHT
END:VTIMEZONE
BEGIN:VEVENT
UID:f4179bde-ef37-4cdb-ad6e-06a7bd05ac1a
DTSTAMP:20260423T130704Z
DESCRIPTION:SOCIAL-\nTexans Benefit\n\nBirthday Social\n@ 12:30 PM
DTSTART;TZID=America/Chicago:20250806T123000
DTEND;TZID=America/Chicago:20250806T133000
LOCATION:219 Flagship Blvd\, Montgomery\, TX 77316 US
SUMMARY:The Heritage 55+: Texans Benefit
END:VEVENT
END:VCALENDAR
