BEGIN:VCALENDAR
VERSION:2.0
PRODID:-//empowercdc.org//NONSGML kigkonsult.se iCalcreator 2.30.10//
CALSCALE:GREGORIAN
METHOD:PUBLISH
UID:a16a4561-4aae-4de2-ad9e-0d5f7d1471ca
X-WR-CALDESC:EXERCISE\nLINE DANCE\n@3PM\n\nSOCIAL\nBIRTHDAY PIZZA PARTY\n@3
 :30PM\n\n*Resident only event*
X-WR-RELCALID:81aaaaa06c4055ff610a9d0aa49a4a8c
X-WR-TIMEZONE:America/Chicago
BEGIN:VTIMEZONE
TZID:America/Chicago
BEGIN:STANDARD
TZNAME:CST
DTSTART:20241103T020000
TZOFFSETFROM:-0500
TZOFFSETTO:-0600
RDATE:20251102T020000
RDATE:20261101T020000
END:STANDARD
BEGIN:DAYLIGHT
TZNAME:CDT
DTSTART:20250309T020000
TZOFFSETFROM:-0600
TZOFFSETTO:-0500
RDATE:20260308T020000
END:DAYLIGHT
END:VTIMEZONE
BEGIN:VEVENT
UID:615bf22e-23ff-4ca6-b628-a513542795b5
DTSTAMP:20260423T130525Z
DESCRIPTION:EXERCISE\nLINE DANCE\n@3PM\n\nSOCIAL\nBIRTHDAY PIZZA PARTY\n@3:
 30PM\n\n*Resident only event*
DTSTART;TZID=America/Chicago:20250805T150000
DTEND;TZID=America/Chicago:20250805T163000
LOCATION:1620 Spencer Hwy\, South Houston\, TX 77587 US
SUMMARY:Windsor Gardens: Exercise\, Social
END:VEVENT
END:VCALENDAR
