BEGIN:VCALENDAR
VERSION:2.0
PRODID:-//empowercdc.org//NONSGML kigkonsult.se iCalcreator 2.30.10//
CALSCALE:GREGORIAN
METHOD:PUBLISH
UID:73c523a4-1047-4475-8c01-c41e455af173
X-WR-CALDESC:SENIOR 101 EMAIL LITERACY\nWORKSHOP\nHANDLING ATTACHMENTS\n@10
 AM\n\nEXERCISE\nFITNESS BINGO\n@10:30AM\n\n*Resident only event*
X-WR-RELCALID:82dcb074ba1032ea2c4046ad11b6f0b9
X-WR-TIMEZONE:America/Chicago
BEGIN:VTIMEZONE
TZID:America/Chicago
BEGIN:STANDARD
TZNAME:CST
DTSTART:20241103T020000
TZOFFSETFROM:-0500
TZOFFSETTO:-0600
RDATE:20251102T020000
RDATE:20261101T020000
END:STANDARD
BEGIN:DAYLIGHT
TZNAME:CDT
DTSTART:20250309T020000
TZOFFSETFROM:-0600
TZOFFSETTO:-0500
RDATE:20260308T020000
END:DAYLIGHT
END:VTIMEZONE
BEGIN:VEVENT
UID:d61ab403-947a-41c1-ab9e-363c2bc6080a
DTSTAMP:20260423T130543Z
DESCRIPTION:SENIOR 101 EMAIL LITERACY\nWORKSHOP\nHANDLING ATTACHMENTS\n@10A
 M\n\nEXERCISE\nFITNESS BINGO\n@10:30AM\n\n*Resident only event*
DTSTART;TZID=America/Chicago:20250805T100000
DTEND;TZID=America/Chicago:20250805T113000
LOCATION:1717 FM359\, Richmond\, TX 77406 US
SUMMARY:Jones Creek: Senior 101 Workshop\, Exercise
END:VEVENT
END:VCALENDAR
