BEGIN:VCALENDAR
VERSION:2.0
PRODID:-//empowercdc.org//NONSGML kigkonsult.se iCalcreator 2.30.10//
CALSCALE:GREGORIAN
METHOD:PUBLISH
UID:86b423f1-88f3-486e-8c08-dbd6294dca3c
X-WR-CALDESC:EXERCISE\nEmpower\nDynamic Stretch\n@ 1:00 PM\n\n*Resident onl
 y event*
X-WR-RELCALID:64a6790695531d4e2fd98bc5d6094e32
X-WR-TIMEZONE:America/Chicago
BEGIN:VTIMEZONE
TZID:America/Chicago
BEGIN:STANDARD
TZNAME:CST
DTSTART:20241103T020000
TZOFFSETFROM:-0500
TZOFFSETTO:-0600
RDATE:20251102T020000
RDATE:20261101T020000
END:STANDARD
BEGIN:DAYLIGHT
TZNAME:CDT
DTSTART:20250309T020000
TZOFFSETFROM:-0600
TZOFFSETTO:-0500
RDATE:20260308T020000
END:DAYLIGHT
END:VTIMEZONE
BEGIN:VEVENT
UID:d543d137-acc5-4abb-96c7-bb09b4cbd20a
DTSTAMP:20260423T130208Z
DESCRIPTION:EXERCISE\nEmpower\nDynamic Stretch\n@ 1:00 PM\n\n*Resident only
  event*
DTSTART;TZID=America/Chicago:20250804T130000
DTEND;TZID=America/Chicago:20250804T140000
LOCATION:12353 Huffmeister Rd\, Cypress\, TX 77429 US
SUMMARY:The Meadows: Exercise
END:VEVENT
END:VCALENDAR
