BEGIN:VCALENDAR
VERSION:2.0
PRODID:-//empowercdc.org//NONSGML kigkonsult.se iCalcreator 2.30.10//
CALSCALE:GREGORIAN
METHOD:PUBLISH
UID:85fbe22c-86a7-4f0d-a692-3c0e8d50a265
X-WR-CALDESC:OUTREACH &\nEDUCATION- COPE\nC.O.P.E\n@ 2:30 PM\n\nSOCIAL- Emp
 ower\nBackpack Drive\n@3:30PM
X-WR-RELCALID:41953d713d1459f701c35847854d4c7e
X-WR-TIMEZONE:America/Chicago
BEGIN:VTIMEZONE
TZID:America/Chicago
BEGIN:STANDARD
TZNAME:CST
DTSTART:20241103T020000
TZOFFSETFROM:-0500
TZOFFSETTO:-0600
RDATE:20251102T020000
RDATE:20261101T020000
END:STANDARD
BEGIN:DAYLIGHT
TZNAME:CDT
DTSTART:20250309T020000
TZOFFSETFROM:-0600
TZOFFSETTO:-0500
RDATE:20260308T020000
END:DAYLIGHT
END:VTIMEZONE
BEGIN:VEVENT
UID:12465ff5-1453-44a9-992a-71dbc0c89e76
DTSTAMP:20260423T131521Z
DESCRIPTION:OUTREACH &\nEDUCATION- COPE\nC.O.P.E\n@ 2:30 PM\n\nSOCIAL- Empo
 wer\nBackpack Drive\n@3:30PM
DTSTART;TZID=America/Chicago:20250804T143000
DTEND;TZID=America/Chicago:20250804T170000
LOCATION:325 Flagship Boulevard\, Montgomery\, TX 77316 US
SUMMARY:The Heritage: C.O.P.E\, Social
END:VEVENT
END:VCALENDAR
