BEGIN:VCALENDAR
VERSION:2.0
PRODID:-//empowercdc.org//NONSGML kigkonsult.se iCalcreator 2.30.10//
CALSCALE:GREGORIAN
METHOD:PUBLISH
UID:902884d3-62f1-4574-8275-3bc079ce67c8
X-WR-CALDESC:DISASTER PREPAREDNESS\nEmergency Kits & Basic First\nAid\n@10:
 30AM\n\nSOCIAL\nBIRTHDAY BINGO\nCP-SOO YOUNG PHIL-AM\nAGENCY\n@11AM\n\n*Re
 sident only event*
X-WR-RELCALID:b16563e1053db9eea1f07bc0e374289c
X-WR-TIMEZONE:America/Chicago
BEGIN:VTIMEZONE
TZID:America/Chicago
BEGIN:STANDARD
TZNAME:CST
DTSTART:20241103T020000
TZOFFSETFROM:-0500
TZOFFSETTO:-0600
RDATE:20251102T020000
RDATE:20261101T020000
END:STANDARD
BEGIN:DAYLIGHT
TZNAME:CDT
DTSTART:20250309T020000
TZOFFSETFROM:-0600
TZOFFSETTO:-0500
RDATE:20260308T020000
END:DAYLIGHT
END:VTIMEZONE
BEGIN:VEVENT
UID:b833780b-44f2-4b70-94fd-4bc87f96c32c
DTSTAMP:20260423T132448Z
DESCRIPTION:DISASTER PREPAREDNESS\nEmergency Kits & Basic First\nAid\n@10:3
 0AM\n\nSOCIAL\nBIRTHDAY BINGO\nCP-SOO YOUNG PHIL-AM\nAGENCY\n@11AM\n\n*Res
 ident only event*
DTSTART;TZID=America/Chicago:20250804T103000
DTEND;TZID=America/Chicago:20250804T120000
LOCATION:1717 FM359\, Richmond\, TX 77406 US
SUMMARY:Jones Creek: Disaster Preparedness\, Social
END:VEVENT
END:VCALENDAR
