BEGIN:VCALENDAR
VERSION:2.0
PRODID:-//empowercdc.org//NONSGML kigkonsult.se iCalcreator 2.30.10//
CALSCALE:GREGORIAN
METHOD:PUBLISH
UID:52549965-e80f-4df7-899c-d00fba030652
X-WR-CALDESC:SOCIAL -\nEmpower\nBackpack Drive\n@ 3:00 PM\n\n*Resident only
  event*
X-WR-RELCALID:800b99755a690b6339ab4b7590f454e8
X-WR-TIMEZONE:America/Chicago
BEGIN:VTIMEZONE
TZID:America/Chicago
BEGIN:STANDARD
TZNAME:CST
DTSTART:20241103T020000
TZOFFSETFROM:-0500
TZOFFSETTO:-0600
RDATE:20251102T020000
RDATE:20261101T020000
END:STANDARD
BEGIN:DAYLIGHT
TZNAME:CDT
DTSTART:20250309T020000
TZOFFSETFROM:-0600
TZOFFSETTO:-0500
RDATE:20260308T020000
END:DAYLIGHT
END:VTIMEZONE
BEGIN:VEVENT
UID:41dd5aae-e5ea-41b1-b458-aafbcca941b2
DTSTAMP:20260423T130229Z
DESCRIPTION:SOCIAL -\nEmpower\nBackpack Drive\n@ 3:00 PM\n\n*Resident only 
 event*
DTSTART;TZID=America/Chicago:20250801T150000
DTEND;TZID=America/Chicago:20250801T163000
LOCATION:12353 Huffmeister Rd\, Cypress\, TX 77429 US
SUMMARY:The Meadows: BackPack Drive
END:VEVENT
END:VCALENDAR
