BEGIN:VCALENDAR
VERSION:2.0
PRODID:-//empowercdc.org//NONSGML kigkonsult.se iCalcreator 2.30.10//
CALSCALE:GREGORIAN
METHOD:PUBLISH
UID:25bb7f75-19d4-44bb-9e89-e6fb05116ed8
X-WR-CALDESC:SENIOR LITERACY 101\nHANDLING EMAIL\nATTACHMENTS\n@10AM
X-WR-RELCALID:0ce8808c5d3bc3dbd5158f2d10c5542f
X-WR-TIMEZONE:America/Chicago
BEGIN:VTIMEZONE
TZID:America/Chicago
BEGIN:STANDARD
TZNAME:CST
DTSTART:20241103T020000
TZOFFSETFROM:-0500
TZOFFSETTO:-0600
RDATE:20251102T020000
RDATE:20261101T020000
END:STANDARD
BEGIN:DAYLIGHT
TZNAME:CDT
DTSTART:20250309T020000
TZOFFSETFROM:-0600
TZOFFSETTO:-0500
RDATE:20260308T020000
END:DAYLIGHT
END:VTIMEZONE
BEGIN:VEVENT
UID:543e2074-01dc-4360-b8dd-613d113a06ee
DTSTAMP:20260423T132456Z
DESCRIPTION:SENIOR LITERACY 101\nHANDLING EMAIL\nATTACHMENTS\n@10AM
DTSTART;TZID=America/Chicago:20250801T100000
DTEND;TZID=America/Chicago:20250801T110000
LOCATION:15707 Kuykendahl Ct\, Conroe\, TX 77384 US
SUMMARY:Kuykendalh Court: Senior 101
END:VEVENT
END:VCALENDAR
