BEGIN:VCALENDAR
VERSION:2.0
PRODID:-//empowercdc.org//NONSGML kigkonsult.se iCalcreator 2.30.10//
CALSCALE:GREGORIAN
METHOD:PUBLISH
UID:7f8efccb-1b35-491e-827b-aa22b8039af2
X-WR-CALDESC:HEALTH & NUTRITION-\nEmpower\n\nHomemade Salad Dressing\n@1:00
  PM
X-WR-RELCALID:660a69db7771ae28521dd900aa38caa1
X-WR-TIMEZONE:America/Chicago
BEGIN:VTIMEZONE
TZID:America/Chicago
BEGIN:STANDARD
TZNAME:CST
DTSTART:20241103T020000
TZOFFSETFROM:-0500
TZOFFSETTO:-0600
RDATE:20251102T020000
RDATE:20261101T020000
END:STANDARD
BEGIN:DAYLIGHT
TZNAME:CDT
DTSTART:20250309T020000
TZOFFSETFROM:-0600
TZOFFSETTO:-0500
RDATE:20260308T020000
END:DAYLIGHT
END:VTIMEZONE
BEGIN:VEVENT
UID:142059bf-902b-4753-a5ae-06b933185d9a
DTSTAMP:20260423T115020Z
DESCRIPTION:HEALTH & NUTRITION-\nEmpower\n\nHomemade Salad Dressing\n@1:00 
 PM
DTSTART;TZID=America/Chicago:20250731T130000
DTEND;TZID=America/Chicago:20250731T140000
LOCATION:325 Flagship Boulevard\, Montgomery\, TX 77316 US
SUMMARY:The Heritage: Health & Nutrition
END:VEVENT
END:VCALENDAR
