BEGIN:VCALENDAR
VERSION:2.0
PRODID:-//empowercdc.org//NONSGML kigkonsult.se iCalcreator 2.30.10//
CALSCALE:GREGORIAN
METHOD:PUBLISH
UID:77237fb5-113e-491c-82cb-f821d37be0fc
X-WR-CALDESC:HEALTH &\n\nNUTRITION-\nEmpower\n\nHomemade Salad\nDressing\n@
 10:00 AM
X-WR-RELCALID:0ccaa6170ed262a10fe104bbe94c628a
X-WR-TIMEZONE:America/Chicago
BEGIN:VTIMEZONE
TZID:America/Chicago
BEGIN:STANDARD
TZNAME:CST
DTSTART:20241103T020000
TZOFFSETFROM:-0500
TZOFFSETTO:-0600
RDATE:20251102T020000
RDATE:20261101T020000
END:STANDARD
BEGIN:DAYLIGHT
TZNAME:CDT
DTSTART:20250309T020000
TZOFFSETFROM:-0600
TZOFFSETTO:-0500
RDATE:20260308T020000
END:DAYLIGHT
END:VTIMEZONE
BEGIN:VEVENT
UID:52293095-99e7-469c-966f-c82b4ba4e2c4
DTSTAMP:20260423T115024Z
DESCRIPTION:HEALTH &\n\nNUTRITION-\nEmpower\n\nHomemade Salad\nDressing\n@1
 0:00 AM
DTSTART;TZID=America/Chicago:20250731T100000
DTEND;TZID=America/Chicago:20250731T110000
LOCATION:219 Flagship Blvd\, Montgomery\, TX 77316 US
SUMMARY:The Heritage 55+: Health & Nutrition
END:VEVENT
END:VCALENDAR
