BEGIN:VCALENDAR
VERSION:2.0
PRODID:-//empowercdc.org//NONSGML kigkonsult.se iCalcreator 2.30.10//
CALSCALE:GREGORIAN
METHOD:PUBLISH
UID:1cfb21fd-f5b3-48a5-89c4-d4aeec6b6f66
X-WR-CALDESC:EXERCISE\nLINE DANCE\n@1PM\n\n*Resident only event*
X-WR-RELCALID:fefa33f1b9d86cf4a3f5bab805a06d5a
X-WR-TIMEZONE:America/Chicago
BEGIN:VTIMEZONE
TZID:America/Chicago
BEGIN:STANDARD
TZNAME:CST
DTSTART:20241103T020000
TZOFFSETFROM:-0500
TZOFFSETTO:-0600
RDATE:20251102T020000
RDATE:20261101T020000
END:STANDARD
BEGIN:DAYLIGHT
TZNAME:CDT
DTSTART:20250309T020000
TZOFFSETFROM:-0600
TZOFFSETTO:-0500
RDATE:20260308T020000
END:DAYLIGHT
END:VTIMEZONE
BEGIN:VEVENT
UID:b3b90feb-72df-4165-976f-af0734a7c007
DTSTAMP:20260423T114210Z
DESCRIPTION:EXERCISE\nLINE DANCE\n@1PM\n\n*Resident only event*
DTSTART;TZID=America/Chicago:20250729T130000
DTEND;TZID=America/Chicago:20250729T140000
LOCATION:1620 Spencer Hwy\, South Houston\, TX 77587 US
SUMMARY:Windsor Gardens: Exercise
END:VEVENT
END:VCALENDAR
