BEGIN:VCALENDAR
VERSION:2.0
PRODID:-//empowercdc.org//NONSGML kigkonsult.se iCalcreator 2.30.10//
CALSCALE:GREGORIAN
METHOD:PUBLISH
UID:faafc049-f184-49c9-9033-09b001aa8ce5
X-WR-CALDESC:\nEXERCISE\nEmpower\nDynamic Stretch\n@ 1:00 PM\n\n*Resident o
 nly event*
X-WR-RELCALID:7fe251cf416724d1a963c51a36b3e148
X-WR-TIMEZONE:America/Chicago
BEGIN:VTIMEZONE
TZID:America/Chicago
BEGIN:STANDARD
TZNAME:CST
DTSTART:20241103T020000
TZOFFSETFROM:-0500
TZOFFSETTO:-0600
RDATE:20251102T020000
RDATE:20261101T020000
END:STANDARD
BEGIN:DAYLIGHT
TZNAME:CDT
DTSTART:20250309T020000
TZOFFSETFROM:-0600
TZOFFSETTO:-0500
RDATE:20260308T020000
END:DAYLIGHT
END:VTIMEZONE
BEGIN:VEVENT
UID:01cace0b-8533-46c2-8758-c0d6e08c5923
DTSTAMP:20260423T114046Z
DESCRIPTION:\nEXERCISE\nEmpower\nDynamic Stretch\n@ 1:00 PM\n\n*Resident on
 ly event*
DTSTART;TZID=America/Chicago:20250728T130000
DTEND;TZID=America/Chicago:20250728T140000
LOCATION:12353 Huffmeister Rd\, Cypress\, TX 77429 US
SUMMARY:The Meadows: Exercise
END:VEVENT
END:VCALENDAR
