BEGIN:VCALENDAR
VERSION:2.0
PRODID:-//empowercdc.org//NONSGML kigkonsult.se iCalcreator 2.30.10//
CALSCALE:GREGORIAN
METHOD:PUBLISH
UID:9115f7b0-a957-451e-aaf7-455c874f7ac0
X-WR-CALDESC:TX SMP\nSCAM OF THE MONTH\n@10:30AM\n\nHealth and Nutrition\nM
 ANAGING STRESS\n@11:00AM\n\n*Resident only event*
X-WR-RELCALID:bac905d4cf2f042f1e764d181a921a2a
X-WR-TIMEZONE:America/Chicago
BEGIN:VTIMEZONE
TZID:America/Chicago
BEGIN:STANDARD
TZNAME:CST
DTSTART:20241103T020000
TZOFFSETFROM:-0500
TZOFFSETTO:-0600
RDATE:20251102T020000
RDATE:20261101T020000
END:STANDARD
BEGIN:DAYLIGHT
TZNAME:CDT
DTSTART:20250309T020000
TZOFFSETFROM:-0600
TZOFFSETTO:-0500
RDATE:20260308T020000
END:DAYLIGHT
END:VTIMEZONE
BEGIN:VEVENT
UID:4e9e287f-3e13-4dbf-80a6-f7ca1c037cd6
DTSTAMP:20260423T115101Z
DESCRIPTION:TX SMP\nSCAM OF THE MONTH\n@10:30AM\n\nHealth and Nutrition\nMA
 NAGING STRESS\n@11:00AM\n\n*Resident only event*
DTSTART;TZID=America/Chicago:20250728T103000
DTEND;TZID=America/Chicago:20250728T120000
LOCATION:1717 FM359\, Richmond\, TX 77406 US
SUMMARY:Jones Creek: TX SMP\, Health & Nutrition
END:VEVENT
END:VCALENDAR
