BEGIN:VCALENDAR
VERSION:2.0
PRODID:-//empowercdc.org//NONSGML kigkonsult.se iCalcreator 2.30.10//
CALSCALE:GREGORIAN
METHOD:PUBLISH
UID:c260796a-adad-4826-85bf-16ac8f4d23de
X-WR-CALDESC:\nARTS & CRAFTS\nEmpower\nIndependence Day\nColoring\n@1:00 PM
 \n\n*Resident only event*
X-WR-RELCALID:45aa95df4779fc55603541a73cad7225
X-WR-TIMEZONE:America/Chicago
BEGIN:VTIMEZONE
TZID:America/Chicago
BEGIN:STANDARD
TZNAME:CST
DTSTART:20241103T020000
TZOFFSETFROM:-0500
TZOFFSETTO:-0600
RDATE:20251102T020000
RDATE:20261101T020000
END:STANDARD
BEGIN:DAYLIGHT
TZNAME:CDT
DTSTART:20250309T020000
TZOFFSETFROM:-0600
TZOFFSETTO:-0500
RDATE:20260308T020000
END:DAYLIGHT
END:VTIMEZONE
BEGIN:VEVENT
UID:a1d63c82-b0e0-401a-a3ff-9199390648a8
DTSTAMP:20260423T114658Z
DESCRIPTION:\nARTS & CRAFTS\nEmpower\nIndependence Day\nColoring\n@1:00 PM
 \n\n*Resident only event*
DTSTART;TZID=America/Chicago:20250725T130000
DTEND;TZID=America/Chicago:20250725T140000
LOCATION:12353 Huffmeister Rd\, Cypress\, TX 77429 US
SUMMARY:The Meadows: Arts & Crafts
END:VEVENT
END:VCALENDAR
