BEGIN:VCALENDAR
VERSION:2.0
PRODID:-//empowercdc.org//NONSGML kigkonsult.se iCalcreator 2.30.10//
CALSCALE:GREGORIAN
METHOD:PUBLISH
UID:f47062d5-cfb3-4012-b60a-c5f032bfc459
X-WR-CALDESC:EXERCISE\nFITNESS BINGO\n@10:00AM\n\nFINANCIAL PLANNING\nFINAN
 CIAL BINGO\n@11AM
X-WR-RELCALID:5ffb59ffdb2708149de67581dac52fff
X-WR-TIMEZONE:America/Chicago
BEGIN:VTIMEZONE
TZID:America/Chicago
BEGIN:STANDARD
TZNAME:CST
DTSTART:20241103T020000
TZOFFSETFROM:-0500
TZOFFSETTO:-0600
RDATE:20251102T020000
RDATE:20261101T020000
END:STANDARD
BEGIN:DAYLIGHT
TZNAME:CDT
DTSTART:20250309T020000
TZOFFSETFROM:-0600
TZOFFSETTO:-0500
RDATE:20260308T020000
END:DAYLIGHT
END:VTIMEZONE
BEGIN:VEVENT
UID:213da1af-4dc8-4c23-bb5b-40162d00c761
DTSTAMP:20260423T115024Z
DESCRIPTION:EXERCISE\nFITNESS BINGO\n@10:00AM\n\nFINANCIAL PLANNING\nFINANC
 IAL BINGO\n@11AM
DTSTART;TZID=America/Chicago:20250725T100000
DTEND;TZID=America/Chicago:20250726T120000
LOCATION:15707 Kuykendahl Ct\, Conroe\, TX 77384 US
SUMMARY:Kuykendalh Court: Exercise\, Financial Planning
END:VEVENT
END:VCALENDAR
