BEGIN:VCALENDAR
VERSION:2.0
PRODID:-//empowercdc.org//NONSGML kigkonsult.se iCalcreator 2.30.10//
CALSCALE:GREGORIAN
METHOD:PUBLISH
UID:bca25c28-3981-4b19-9477-0b023e78f43c
X-WR-CALDESC:EXERCISE- Wellcare\nBingo & Wellness\n@10:00AM\n\nDisaster Pre
 pared\nWorkshop-Empower\nDisaster Recovery Pt.2\n@11:00AM
X-WR-RELCALID:d870efdd76287ff6b263d7502345e659
X-WR-TIMEZONE:America/Chicago
BEGIN:VTIMEZONE
TZID:America/Chicago
BEGIN:STANDARD
TZNAME:CST
DTSTART:20241103T020000
TZOFFSETFROM:-0500
TZOFFSETTO:-0600
RDATE:20251102T020000
RDATE:20261101T020000
END:STANDARD
BEGIN:DAYLIGHT
TZNAME:CDT
DTSTART:20250309T020000
TZOFFSETFROM:-0600
TZOFFSETTO:-0500
RDATE:20260308T020000
END:DAYLIGHT
END:VTIMEZONE
BEGIN:VEVENT
UID:6c9ec640-80ed-4c2e-9005-b14128f4c4e2
DTSTAMP:20260423T114443Z
DESCRIPTION:EXERCISE- Wellcare\nBingo & Wellness\n@10:00AM\n\nDisaster Prep
 ared\nWorkshop-Empower\nDisaster Recovery Pt.2\n@11:00AM
DTSTART;TZID=America/Chicago:20250722T100000
DTEND;TZID=America/Chicago:20250722T120000
LOCATION:1830 Hollyoak Dr\, Houston\, TX 77084 US
SUMMARY:Hollyoak: Exercise\, Disaster Preparedness
END:VEVENT
END:VCALENDAR
