BEGIN:VCALENDAR
VERSION:2.0
PRODID:-//empowercdc.org//NONSGML kigkonsult.se iCalcreator 2.30.10//
CALSCALE:GREGORIAN
METHOD:PUBLISH
UID:45dfd8f6-f8b8-4538-8881-d68dd52a6271
X-WR-CALDESC:FOOD PANTRY\nEmpower\nMonthly Food Pantry\n@1:00 PM\n*Resident
  only event*
X-WR-RELCALID:b38c73d50aaa2cc00d2d0d3374fac9af
X-WR-TIMEZONE:America/Chicago
BEGIN:VTIMEZONE
TZID:America/Chicago
BEGIN:STANDARD
TZNAME:CST
DTSTART:20241103T020000
TZOFFSETFROM:-0500
TZOFFSETTO:-0600
RDATE:20251102T020000
RDATE:20261101T020000
END:STANDARD
BEGIN:DAYLIGHT
TZNAME:CDT
DTSTART:20250309T020000
TZOFFSETFROM:-0600
TZOFFSETTO:-0500
RDATE:20260308T020000
END:DAYLIGHT
END:VTIMEZONE
BEGIN:VEVENT
UID:e870e45f-d2f5-47fc-98e5-a4062ed70e64
DTSTAMP:20260423T114458Z
DESCRIPTION:FOOD PANTRY\nEmpower\nMonthly Food Pantry\n@1:00 PM\n*Resident 
 only event*
DTSTART;TZID=America/Chicago:20250722T130000
DTEND;TZID=America/Chicago:20250722T140000
LOCATION:6725 Brittmoore Road\, Houston\, TX 77041 US
SUMMARY:Brittmoore: Food Pantry
END:VEVENT
END:VCALENDAR
