BEGIN:VCALENDAR
VERSION:2.0
PRODID:-//empowercdc.org//NONSGML kigkonsult.se iCalcreator 2.30.10//
CALSCALE:GREGORIAN
METHOD:PUBLISH
UID:b7af05a0-426d-4c16-a6ec-990331f744a0
X-WR-CALDESC:\nEXERCISE\nEmpower\nDynamic Stretch\n@ 1:00 PM\n\n*Resident o
 nly event*
X-WR-RELCALID:6c4f78d5e4ff813c6a7342abab65e7b2
X-WR-TIMEZONE:America/Chicago
BEGIN:VTIMEZONE
TZID:America/Chicago
BEGIN:STANDARD
TZNAME:CST
DTSTART:20241103T020000
TZOFFSETFROM:-0500
TZOFFSETTO:-0600
RDATE:20251102T020000
RDATE:20261101T020000
END:STANDARD
BEGIN:DAYLIGHT
TZNAME:CDT
DTSTART:20250309T020000
TZOFFSETFROM:-0600
TZOFFSETTO:-0500
RDATE:20260308T020000
END:DAYLIGHT
END:VTIMEZONE
BEGIN:VEVENT
UID:b870154e-cdfb-4a4b-a23b-fba6f8cfb92e
DTSTAMP:20260423T114049Z
DESCRIPTION:\nEXERCISE\nEmpower\nDynamic Stretch\n@ 1:00 PM\n\n*Resident on
 ly event*
DTSTART;TZID=America/Chicago:20250721T130000
DTEND;TZID=America/Chicago:20250721T140000
LOCATION:12353 Huffmeister Rd\, Cypress\, TX 77429 US
SUMMARY:The Meadows: Exercise
END:VEVENT
END:VCALENDAR
