BEGIN:VCALENDAR
VERSION:2.0
PRODID:-//empowercdc.org//NONSGML kigkonsult.se iCalcreator 2.30.10//
CALSCALE:GREGORIAN
METHOD:PUBLISH
UID:845d8cb6-3bd3-4dd7-aeeb-b90a989608d7
X-WR-CALDESC:ARTS & CRAFT-\nEmpower\n\nBeaded Pens\n@10:00 AM
X-WR-RELCALID:e9d77e15f0a1d5051955dabb94676a9e
X-WR-TIMEZONE:America/Chicago
BEGIN:VTIMEZONE
TZID:America/Chicago
BEGIN:STANDARD
TZNAME:CST
DTSTART:20241103T020000
TZOFFSETFROM:-0500
TZOFFSETTO:-0600
RDATE:20251102T020000
RDATE:20261101T020000
END:STANDARD
BEGIN:DAYLIGHT
TZNAME:CDT
DTSTART:20250309T020000
TZOFFSETFROM:-0600
TZOFFSETTO:-0500
RDATE:20260308T020000
END:DAYLIGHT
END:VTIMEZONE
BEGIN:VEVENT
UID:4345a689-a5e0-4302-9169-01b0a065173a
DTSTAMP:20260423T114603Z
DESCRIPTION:ARTS & CRAFT-\nEmpower\n\nBeaded Pens\n@10:00 AM
DTSTART;TZID=America/Chicago:20250721T100000
DTEND;TZID=America/Chicago:20250721T110000
LOCATION:219 Flagship Blvd\, Montgomery\, TX 77316 US
SUMMARY:The Heritage 55+: Arts & Crafts
END:VEVENT
END:VCALENDAR
