BEGIN:VCALENDAR
VERSION:2.0
PRODID:-//empowercdc.org//NONSGML kigkonsult.se iCalcreator 2.30.10//
CALSCALE:GREGORIAN
METHOD:PUBLISH
UID:5c381d17-6f65-44e5-a1db-1ce852f16c0a
X-WR-CALDESC:SOCIAL\nESCAPE ROOM\n@11AM\n\nARTS & CRAFTS\nDIY PENS\n@11AM\n
 \n*Resident only event*
X-WR-RELCALID:f7a9eb93b501c4be362ca775ef15ba35
X-WR-TIMEZONE:America/Chicago
BEGIN:VTIMEZONE
TZID:America/Chicago
BEGIN:STANDARD
TZNAME:CST
DTSTART:20241103T020000
TZOFFSETFROM:-0500
TZOFFSETTO:-0600
RDATE:20251102T020000
RDATE:20261101T020000
END:STANDARD
BEGIN:DAYLIGHT
TZNAME:CDT
DTSTART:20250309T020000
TZOFFSETFROM:-0600
TZOFFSETTO:-0500
RDATE:20260308T020000
END:DAYLIGHT
END:VTIMEZONE
BEGIN:VEVENT
UID:1f4930a1-8ce2-4fcb-80b1-157749050fbc
DTSTAMP:20260423T114815Z
DESCRIPTION:SOCIAL\nESCAPE ROOM\n@11AM\n\nARTS & CRAFTS\nDIY PENS\n@11AM\n
 \n*Resident only event*
DTSTART;TZID=America/Chicago:20250721T110000
DTEND;TZID=America/Chicago:20250721T120000
LOCATION:1717 FM359\, Richmond\, TX 77406 US
SUMMARY:Jones Creek: Social\, Arts & Crafts
END:VEVENT
END:VCALENDAR
