BEGIN:VCALENDAR
VERSION:2.0
PRODID:-//empowercdc.org//NONSGML kigkonsult.se iCalcreator 2.30.10//
CALSCALE:GREGORIAN
METHOD:PUBLISH
UID:6c677e0f-94d3-4fe1-b06e-c9dd327ab2b5
X-WR-CALDESC:Character\nBuilding\nEmpower\nMental Health\nAwareness\n@1:00 
 PM\n\n*Resident only event*
X-WR-RELCALID:2693e1a1b880feedc4325024bfe27856
X-WR-TIMEZONE:America/Chicago
BEGIN:VTIMEZONE
TZID:America/Chicago
BEGIN:STANDARD
TZNAME:CST
DTSTART:20241103T020000
TZOFFSETFROM:-0500
TZOFFSETTO:-0600
RDATE:20251102T020000
RDATE:20261101T020000
END:STANDARD
BEGIN:DAYLIGHT
TZNAME:CDT
DTSTART:20250309T020000
TZOFFSETFROM:-0600
TZOFFSETTO:-0500
RDATE:20260308T020000
END:DAYLIGHT
END:VTIMEZONE
BEGIN:VEVENT
UID:2d59b131-2239-44f7-8cbc-fd8cd0fbf2b3
DTSTAMP:20260423T114423Z
DESCRIPTION:Character\nBuilding\nEmpower\nMental Health\nAwareness\n@1:00 P
 M\n\n*Resident only event*
DTSTART;TZID=America/Chicago:20250718T130000
DTEND;TZID=America/Chicago:20250718T150000
LOCATION:12353 Huffmeister Rd\, Cypress\, TX 77429 US
SUMMARY:The Meadows: Character Building
END:VEVENT
END:VCALENDAR
